BEGIN:VCALENDAR
VERSION:2.0
PRODID:-//eventon.com NONSGML v1.0//EN
CALSCALE:GREGORIAN
METHOD:PUBLISH
BEGIN:VEVENT
UID:69e4cc84b35ee
DTSTAMP:20260419T123724Z
DTSTART:20240714T111500Z
DTEND:20240714T140000Z
LOCATION:杭州奧體中心體育館 浙江省杭州市萧山区博奥路2657号
SUMMARY:杭州
DESCRIPTION:\nhttps://www.jackycheung60.com/events/hangzhou0714/
URL:https://www.jackycheung60.com/events/hangzhou0714/
END:VEVENT
END:VCALENDAR